BEGIN:VCALENDAR
VERSION:2.0
PRODID:-//Sjöstadsnytt - ECPv6.15.20//NONSGML v1.0//EN
CALSCALE:GREGORIAN
METHOD:PUBLISH
X-ORIGINAL-URL:https://sjostadsnytt.se
X-WR-CALDESC:Händelser för Sjöstadsnytt
REFRESH-INTERVAL;VALUE=DURATION:PT1H
X-Robots-Tag:noindex
X-PUBLISHED-TTL:PT1H
BEGIN:VTIMEZONE
TZID:UTC
BEGIN:STANDARD
TZOFFSETFROM:+0000
TZOFFSETTO:+0000
TZNAME:UTC
DTSTART:20220101T000000
END:STANDARD
END:VTIMEZONE
BEGIN:VEVENT
DTSTART;TZID=UTC:20230826T100000
DTEND;TZID=UTC:20230826T210000
DTSTAMP:20260423T131935
CREATED:20230802T131513Z
LAST-MODIFIED:20230802T134914Z
UID:125-1693044000-1693083600@sjostadsnytt.se
SUMMARY:Sjöstadsdagen
DESCRIPTION:I år arrangeras Sjöstadsdagen lördagen den 26 augusti kl 10.00-21.00. Festivalen tjuvstartar kl 10 med knattelopp för åldrarna 2-10 år\, kl 10.45 är det invigning på Stora scenen i Lumaparken och sedan är det full fart hela dagen med massor av aktiviteter för alla åldrar som t.ex. loppmarknad\, ansiktsmålning\, ponnyridning\, fysiska aktiviteter och utmaningar och ett fullspäckat scenprogram. \nPå Luma torg är det restaurangeventet Smaka på Sjöstan med bl. a. restauranger\, café\, basket\, mekanisk tjur och kl 17.30-21.00 spelar flera band på restaurangscenen.
URL:https://sjostadsnytt.se/event/annu-ett-evenemang/
LOCATION:Lumaparken\, Lumaparken\, Hammarby Sjöstad
CATEGORIES:Boende,Föreningar,Företag
ATTACH;FMTTYPE=image/jpeg:https://sjostadsnytt.se/wp-content/uploads/2023/05/Sjostadsdagen_web.jpg
ORGANIZER;CN="Sj%C3%B6stadsf%C3%B6reningen":MAILTO:info@sjostadsforeningen.se
END:VEVENT
BEGIN:VEVENT
DTSTART;TZID=UTC:20230830T140000
DTEND;TZID=UTC:20230830T153000
DTSTAMP:20260423T131935
CREATED:20230803T104714Z
LAST-MODIFIED:20230803T154722Z
UID:1010-1693404000-1693409400@sjostadsnytt.se
SUMMARY:Fogelströmvandring
DESCRIPTION:Vandring i Per Anders Fogelströms fotspår \nOnsdag 30 augusti kl 14.00 \nVi gör en vandring kring de östra delarna av Södermalm och Sofia församling och tänker oss in i hur det kan sett ut här för mellan 100 och 200 år sedan. Vi noterar i sammanhanget platser och händelser som nämns i Per Anders Fogelströms böcker från Vävarnas Barn på slutet av 1700-talet till Mina Drömmars stad på slutet av 1800-talet. \nVandringen leds av Nils Öström. Tid ca 1\,5 tim. Samling hörnet Skånegatan/Klippgatan. \nArrangör: Sofia Hembygdsförening \nAnmälan senast 21/8 till: Nils Öström\, 070-910 2879 \nEller via e-post: nils.ostrom@telia.com eller info@sofiahembygdsforening.se \nFotografiet är taget av Kasper Salin\, Kasper (1856-1919)\, Stockholms stadsmuseum
URL:https://sjostadsnytt.se/event/fogelstromvandring/
LOCATION:Skånegatan
CATEGORIES:Boende,Föreningar
ATTACH;FMTTYPE=image/jpeg:https://sjostadsnytt.se/wp-content/uploads/2023/08/Fogelstrom.jpg
END:VEVENT
BEGIN:VEVENT
DTSTART;TZID=UTC:20230831T180000
DTEND;TZID=UTC:20230831T190000
DTSTAMP:20260423T131935
CREATED:20230829T073521Z
LAST-MODIFIED:20230829T073521Z
UID:1241-1693504800-1693508400@sjostadsnytt.se
SUMMARY:Lopp till minne av Claudia
DESCRIPTION:Tigerloppet arrangeras den 31 augusti med start och mål på Hammarby Kaj 2 utanför Löparboxen. Alla är välkomna att springa eller gå 2\,5 eller 5 km. Rundan går mot Årstaviken. \nLoppet är skapat till minne av fjortonåriga Claudia Tiger som nyligen gick bort i cancer (en av Löparboxens medlemmars dotter). \nVar med och spring för att cancern inte ska få ta fler barn och för alla barn som kämpar mot cancer. \nLoppet kostar ingenting. Du som springer ger valfritt belopp direkt till Claudias insamling Tigerloppet hos barncancerfonden. Forskning gör skillnad! \nSamling Hammarby Kaj 2\, torsdag den 31 augusti kl 18:00 \nStart 2.5 km: 18:20\nStart 5 km: 18:30
URL:https://sjostadsnytt.se/event/lopp-till-minne-av-claudia/
LOCATION:Hammarby Kaj 2\, Hammarby Kaj 2
CATEGORIES:Boende,Föreningar,Företag
ATTACH;FMTTYPE=image/jpeg:https://sjostadsnytt.se/wp-content/uploads/2023/08/Tigerloppet.jpg
END:VEVENT
END:VCALENDAR