BEGIN:VCALENDAR
VERSION:2.0
PRODID:-//Sjöstadsnytt - ECPv6.15.20//NONSGML v1.0//EN
CALSCALE:GREGORIAN
METHOD:PUBLISH
X-ORIGINAL-URL:https://sjostadsnytt.se
X-WR-CALDESC:Händelser för Sjöstadsnytt
REFRESH-INTERVAL;VALUE=DURATION:PT1H
X-Robots-Tag:noindex
X-PUBLISHED-TTL:PT1H
BEGIN:VTIMEZONE
TZID:UTC
BEGIN:STANDARD
TZOFFSETFROM:+0000
TZOFFSETTO:+0000
TZNAME:UTC
DTSTART:20230101T000000
END:STANDARD
END:VTIMEZONE
BEGIN:VEVENT
DTSTART;TZID=UTC:20240603T190000
DTEND;TZID=UTC:20240603T220000
DTSTAMP:20260422T191253
CREATED:20240425T113532Z
LAST-MODIFIED:20240425T113532Z
UID:1805-1717441200-1717452000@sjostadsnytt.se
SUMMARY:Dansant måndag
DESCRIPTION:Dans till levande orkester på Eatery Lumafabriken\, Lumaparksvägen 7\,  varannan måndag kl 19.00. Entrén är 195 kr (endast swish eller kort) och i baren finns vin och öl till förmånliga priser samt lättare förtäring.  \n 
URL:https://sjostadsnytt.se/event/dansant-mandag-2-2-2-2-2-2-2-2-2-2/
LOCATION:Eatery Lumafabriken\, Lumaparksvägen 7
CATEGORIES:Boende,Föreningar
ATTACH;FMTTYPE=image/jpeg:https://sjostadsnytt.se/wp-content/uploads/2023/08/Dans-pa-luma.jpg
ORGANIZER;CN="Dansant M%C3%A5ndag":MAILTO:mats.gallno@gmail.com
END:VEVENT
BEGIN:VEVENT
DTSTART;TZID=UTC:20240606T093000
DTEND;TZID=UTC:20240606T113000
DTSTAMP:20260422T191253
CREATED:20240419T095145Z
LAST-MODIFIED:20240419T095145Z
UID:1770-1717666200-1717673400@sjostadsnytt.se
SUMMARY:Nationaldagsfirande
DESCRIPTION:Den 6 juni firar vi Nationaldagen i Hammarby Sjöstad. \n09.30 Samling vid Sjöstadskapellet\, Lugnets Allé 46 \n09.45 Barnen tågar med flaggor\, ballonger och musik \n10.00 Flaggan hissas på Lugnets Terrass \nBarnkör – Tal – Brassband. Hasse i glasskiosken bjuder barnen på glass. \nMedtag gärna egen picknickkorg. \n  \nArrangörer: Sofia Hembygdsförening och Sofia församling \n 
URL:https://sjostadsnytt.se/event/valborgsfirande-i-sjostan-2-2/
LOCATION:Lilla Sickla äng
CATEGORIES:Boende,Föreningar,Företag
ATTACH;FMTTYPE=image/png:https://sjostadsnytt.se/wp-content/uploads/2024/04/Svenska-flaggan.png
END:VEVENT
BEGIN:VEVENT
DTSTART;TZID=UTC:20240612T160000
DTEND;TZID=UTC:20240612T200000
DTSTAMP:20260422T191253
CREATED:20240527T094946Z
LAST-MODIFIED:20240527T094946Z
UID:1838-1718208000-1718222400@sjostadsnytt.se
SUMMARY:Sommartorg Luma
DESCRIPTION:Sommartorg Luma ordnas i år igen på Luma torg med aktiviteter efter skolavslutningen\, 12-18 juni kl. 16.00 – 20.00\, och inför skolstarten 12-17 augusti kl. 16.00 – 20.00. \nTillsammans kommer vi levandegöra Luma torg med en massa roliga aktiviteter för våra unga. Barn och ungdomar kommer kunna delta i olika aktiviteter och göra trevliga saker\, träffa vuxna och äldre ungdomar eller bara hänga på torget. Vi kommer lyssna in vad de vill och skapa aktiviteter utifrån deras önskemål\, där så är möjligt. På torget kommer det varje dag att finnas bord\, stolar\, spel\, utelek\, pingis och annat att ägna sig åt. Ambitionen med Sommartorget är som förra året att dessa aktivitet ska bidra till ett mer levande\, upplevelsemässigt tryggare Luma torg där nya dialoger mellan barn och vuxna kan starta och stärka gemenskapen i Sjöstan. \n  \nHär är lite av det som kommer att ske: \n* Fik – alla dagar. Hålls av flicklag från Hammarby fotboll. \n* Fryshusets Lovely Days närvarar 14  och 17 juni kl. 18 – 20\, med basket\, pannafotboll och skate. \n* Biblioteket håller i diverse pyssel 13 juni kl. 16-17. \n* Ponnyridning 15 och 16 juni\, samt 17 augusti\, \nProgrammet är inte helt klart än och kommer att fyllas på. \n  \nÄr du intresserad av att vara med som volontär någon av dagarna? \nVill du sponsra eventet i någon form? \nHar du kanske någon kul utemöbel\, saccosäck eller annat som kan passa in på Sommartorget att skänka? \nMejla då till: info@snyggtochtryggt.se eller swisha bidrag till: \n123 057 67 51 (ange: Sommartorg Luma i meddelandet). \n  \nTack på förhand och Varmt välkomna! \n  \nArrangör: Snyggt & Tryggt i Sjöstaden i samverkan med Sjöstadsföreningen och Nattvandring i Sjöstan. \nEventet har möjliggjorts genom ett föreningsbidrag från Södermalms stadsdelsnämnd\, för sommarinsatser för unga. \nSponsorer är bl.a. Fabege AB\, Coop Sickla Kaj\, Ica Supermarket Mårtensdal\, fler sponsorer är på väg in.
URL:https://sjostadsnytt.se/event/sommartorg-luma/
CATEGORIES:Boende,Föreningar,Företag
ATTACH;FMTTYPE=image/png:https://sjostadsnytt.se/wp-content/uploads/2024/05/Sommartorg-Luma-2024.png
END:VEVENT
BEGIN:VEVENT
DTSTART;TZID=UTC:20240613T160000
DTEND;TZID=UTC:20240613T200000
DTSTAMP:20260422T191253
CREATED:20240527T095137Z
LAST-MODIFIED:20240613T083404Z
UID:1840-1718294400-1718308800@sjostadsnytt.se
SUMMARY:Sommartorg Luma
DESCRIPTION:Sommartorg Luma ordnas i år igen på Luma torg med aktiviteter efter skolavslutningen\, 12-18 juni kl. 16.00 – 20.00\, och inför skolstarten 12-17 augusti kl. 16.00 – 20.00. \nTillsammans kommer vi levandegöra Luma torg med en massa roliga aktiviteter för våra unga. Barn och ungdomar kommer kunna delta i olika aktiviteter och göra trevliga saker\, träffa vuxna och äldre ungdomar eller bara hänga på torget. Vi kommer lyssna in vad de vill och skapa aktiviteter utifrån deras önskemål\, där så är möjligt. På torget kommer det varje dag att finnas bord\, stolar\, spel\, utelek\, pingis och annat att ägna sig åt. Ambitionen med Sommartorget är som förra året att dessa aktivitet ska bidra till ett mer levande\, upplevelsemässigt tryggare Luma torg där nya dialoger mellan barn och vuxna kan starta och stärka gemenskapen i Sjöstan. \nIdag blir det tävlingar 17-19. Man bjuder på godis och har lite priser.  \nHär är lite mer av det som kommer att ske: \n* Fik – alla dagar. Hålls av flicklag från Hammarby fotboll. \n* Fryshusets Lovely Days närvarar 14  och 17 juni kl. 18 – 20\, med basket\, pannafotboll och skate. \n* Biblioteket håller i diverse pyssel 13 juni kl. 16-17. \n* Ponnyridning 15 och 16 juni\, samt 17 augusti\, \nProgrammet är inte helt klart än och kommer att fyllas på. \n  \nÄr du intresserad av att vara med som volontär någon av dagarna? \nVill du sponsra eventet i någon form? \nTack på förhand och Varmt välkomna! \nArrangör: Snyggt & Tryggt i Sjöstaden i samverkan med Sjöstadsföreningen och Nattvandring i Sjöstan. \nEventet har möjliggjorts genom ett föreningsbidrag från Södermalms stadsdelsnämnd\, för sommarinsatser för unga. \nSponsorer: Fabege\, ICA Supermarket Mårtensdal\, Coop Sickla Kaj\, Hemmakväll Hammarby Sjöstad\, TriffiQ och Remondis. \nVill du också vara med och bidra: Kom till torget och prata med oss eller swisha valfritt belopp till: 123 057 67 51 \n 
URL:https://sjostadsnytt.se/event/sommartorg-luma-2/
CATEGORIES:Boende,Föreningar,Företag
ATTACH;FMTTYPE=image/png:https://sjostadsnytt.se/wp-content/uploads/2024/05/Sommartorg-Luma-2024.png
END:VEVENT
BEGIN:VEVENT
DTSTART;TZID=UTC:20240614T160000
DTEND;TZID=UTC:20240614T200000
DTSTAMP:20260422T191253
CREATED:20240527T095322Z
LAST-MODIFIED:20240613T083627Z
UID:1842-1718380800-1718395200@sjostadsnytt.se
SUMMARY:Sommartorg Luma
DESCRIPTION:Sommartorg Luma ordnas i år igen på Luma torg med aktiviteter efter skolavslutningen\, 12-18 juni kl. 16.00 – 20.00\, och inför skolstarten 12-17 augusti kl. 16.00 – 20.00. \nTillsammans kommer vi levandegöra Luma torg med en massa roliga aktiviteter för våra unga. Barn och ungdomar kommer kunna delta i olika aktiviteter och göra trevliga saker\, träffa vuxna och äldre ungdomar eller bara hänga på torget. Vi kommer lyssna in vad de vill och skapa aktiviteter utifrån deras önskemål\, där så är möjligt. På torget kommer det varje dag att finnas bord\, stolar\, spel\, utelek\, pingis och annat att ägna sig åt. Ambitionen med Sommartorget är som förra året att dessa aktivitet ska bidra till ett mer levande\, upplevelsemässigt tryggare Luma torg där nya dialoger mellan barn och vuxna kan starta och stärka gemenskapen i Sjöstan. \n  \nHär är lite av det som kommer att ske: \n* Fik – alla dagar. Hålls av flicklag från Hammarby fotboll. \n* Fryshusets Lovely Days närvarar 14  och 17 juni kl. 18 – 20\, med basket\, pannafotboll och skate. \n* Biblioteket håller i diverse pyssel 13 juni kl. 16-17. \n* Ponnyridning 15 och 16 juni\, samt 17 augusti\, \nProgrammet är inte helt klart än och kommer att fyllas på. \n  \nÄr du intresserad av att vara med som volontär någon av dagarna? \nVill du sponsra eventet i någon form? \nHar du kanske någon kul utemöbel\, saccosäck eller annat som kan passa in på Sommartorget att skänka? \nMejla då till: info@snyggtochtryggt.se eller swisha bidrag till: \n123 057 67 51 (ange: Sommartorg Luma i meddelandet). \n  \nTack på förhand och Varmt välkomna! \nArrangör: Snyggt & Tryggt i Sjöstaden i samverkan med Sjöstadsföreningen och Nattvandring i Sjöstan. \nEventet har möjliggjorts genom ett föreningsbidrag från Södermalms stadsdelsnämnd\, för sommarinsatser för unga. \nSponsorer: Fabege\, ICA Supermarket Mårtensdal\, Coop Sickla Kaj\, Hemmakväll Hammarby Sjöstad\, TriffiQ och Remondis. \nVill du också vara med och bidra: Kom till torget och prata med oss eller swisha valfritt belopp till: 123 057 67 51
URL:https://sjostadsnytt.se/event/sommartorg-luma-2-2/
CATEGORIES:Boende,Föreningar,Företag
ATTACH;FMTTYPE=image/png:https://sjostadsnytt.se/wp-content/uploads/2024/05/Sommartorg-Luma-2024.png
END:VEVENT
BEGIN:VEVENT
DTSTART;TZID=UTC:20240615T110000
DTEND;TZID=UTC:20240615T150000
DTSTAMP:20260422T191253
CREATED:20240522T121755Z
LAST-MODIFIED:20240522T121755Z
UID:1829-1718449200-1718463600@sjostadsnytt.se
SUMMARY:Gatufest i Nacka
DESCRIPTION:Lördag 15 juni kl. 11–15 blir det en stor gatufest i Stadshuskvarteren i Centrala Nacka. Alla verksamheter öppnar upp och det blir massor av god mat och fika från kvarterets restauranger och caféer. Du kommer hitta fina erbjudanden\, olika Nackaföretag och föreningar finns på plats och förstås musik och uppträdanden. Samt massor av aktiviteter för vuxna och barn.\n\n\n\n\nDessutom kan du få en inblick i vad som händer i Centrala Nacka och får möjligheten att möta representanter från kommunen och de som utvecklar bostäder och lokaler. \nI år har blir det ett par nyheter; dels bakluckeloppis på stadshusets parkering\, dels gröna hörnan för både vuxna och barn som innehåller Barnens planteringsskola och växtråd till rabatt och balkong av en trädgårdsmästare. Här kan man lära sig mer om vatten och växter och hur vi kan underlätta för våra surrande små insektsvänner. \nMan ordnar också ett kul lekparkslopp för barn där man får såväl t‑shirt som medalj. \n\n\n\n\n\n\nLäs mer om Gatufesten här\n\n\n\n\n\n\nTid: 15 juni\, kl. 11.00–15.00 \nPlats: Stadshuskvarteren vid Nacka Forum
URL:https://sjostadsnytt.se/event/gatufest-i-nacka/
LOCATION:Nacka kommun
CATEGORIES:Boende
ATTACH;FMTTYPE=image/png:https://sjostadsnytt.se/wp-content/uploads/2024/05/Gatufest.png
END:VEVENT
BEGIN:VEVENT
DTSTART;TZID=UTC:20240615T120000
DTEND;TZID=UTC:20240615T160000
DTSTAMP:20260422T191253
CREATED:20240527T095530Z
LAST-MODIFIED:20240614T153636Z
UID:1844-1718452800-1718467200@sjostadsnytt.se
SUMMARY:Sommartorg Luma kl 12-16
DESCRIPTION:Sommartorg Luma ordnas i år igen på Luma torg med aktiviteter efter skolavslutningen\, 12-18 juni och inför skolstarten 12-17 augusti. \nIdag lördag och imorgon söndag har vi öppet kl 12-16. \nTillsammans kommer vi levandegöra Luma torg med en massa roliga aktiviteter för våra unga. Barn och ungdomar kommer kunna delta i olika aktiviteter och göra trevliga saker\, träffa vuxna och äldre ungdomar eller bara hänga på torget. Vi kommer lyssna in vad de vill och skapa aktiviteter utifrån deras önskemål\, där så är möjligt. På torget kommer det varje dag att finnas bord\, stolar\, spel\, utelek\, pingis och annat att ägna sig åt. Ambitionen med Sommartorget är som förra året att dessa aktivitet ska bidra till ett mer levande\, upplevelsemässigt tryggare Luma torg där nya dialoger mellan barn och vuxna kan starta och stärka gemenskapen i Sjöstan. \n  \nHär är lite av det som kommer att ske: \n* Fik – alla dagar. Hålls av flicklag från Hammarby fotboll. \n* Fryshusets Lovely Days närvarar 14  och 17 juni kl. 18 – 20\, med basket\, pannafotboll och skate. \n* Biblioteket håller i diverse pyssel 13 juni kl. 16-17. \n* Ponnyridning 15 och 16 juni\, samt 17 augusti\, \nProgrammet är inte helt klart än och kommer att fyllas på. \n  \nÄr du intresserad av att vara med som volontär någon av dagarna? \nVill du sponsra eventet i någon form? \nHar du kanske någon kul utemöbel\, saccosäck eller annat som kan passa in på Sommartorget att skänka? \nMejla då till: info@snyggtochtryggt.se eller swisha bidrag till: \n123 057 67 51 (ange: Sommartorg Luma i meddelandet). \n  \nTack på förhand och Varmt välkomna! \nArrangör: Snyggt & Tryggt i Sjöstaden i samverkan med Sjöstadsföreningen och Nattvandring i Sjöstan. \nEventet har möjliggjorts genom ett föreningsbidrag från Södermalms stadsdelsnämnd\, för sommarinsatser för unga. \nSponsorer: Fabege\, ICA Supermarket Mårtensdal\, Coop Sickla Kaj\, Hemmakväll Hammarby Sjöstad\, TriffiQ och Remondis. \nVill du också vara med och bidra: Kom till torget och prata med oss eller swisha valfritt belopp till: 123 057 67 51
URL:https://sjostadsnytt.se/event/sommartorg-luma-2-2-2/
CATEGORIES:Boende,Föreningar,Företag
ATTACH;FMTTYPE=image/jpeg:https://sjostadsnytt.se/wp-content/uploads/2024/05/Sommartorg.jpg
END:VEVENT
BEGIN:VEVENT
DTSTART;TZID=UTC:20240616T120000
DTEND;TZID=UTC:20240616T160000
DTSTAMP:20260422T191253
CREATED:20240527T095727Z
LAST-MODIFIED:20240614T153606Z
UID:1846-1718539200-1718553600@sjostadsnytt.se
SUMMARY:Sommartorg Luma kl 12-16
DESCRIPTION:Sommartorg Luma ordnas i år igen på Luma torg med aktiviteter efter skolavslutningen\, 12-18 juni och inför skolstarten 12-17 augusti. \nIdag söndag har vi öppet kl 12-16. \nTillsammans kommer vi levandegöra Luma torg med en massa roliga aktiviteter för våra unga. Barn och ungdomar kommer kunna delta i olika aktiviteter och göra trevliga saker\, träffa vuxna och äldre ungdomar eller bara hänga på torget. Vi kommer lyssna in vad de vill och skapa aktiviteter utifrån deras önskemål\, där så är möjligt. På torget kommer det varje dag att finnas bord\, stolar\, spel\, utelek\, pingis och annat att ägna sig åt. Ambitionen med Sommartorget är som förra året att dessa aktivitet ska bidra till ett mer levande\, upplevelsemässigt tryggare Luma torg där nya dialoger mellan barn och vuxna kan starta och stärka gemenskapen i Sjöstan. \n  \nHär är lite av det som kommer att ske: \n* Fik – alla dagar. Hålls av flicklag från Hammarby fotboll. \n* Fryshusets Lovely Days närvarar 14  och 17 juni kl. 18 – 20\, med basket\, pannafotboll och skate. \n* Biblioteket håller i diverse pyssel 13 juni kl. 16-17. \n* Ponnyridning 15 och 16 juni\, samt 17 augusti\, \nProgrammet är inte helt klart än och kommer att fyllas på. \n  \nÄr du intresserad av att vara med som volontär någon av dagarna? \nVill du sponsra eventet i någon form? \nHar du kanske någon kul utemöbel\, saccosäck eller annat som kan passa in på Sommartorget att skänka? \nMejla då till: info@snyggtochtryggt.se eller swisha bidrag till: \n123 057 67 51 (ange: Sommartorg Luma i meddelandet). \n  \nTack på förhand och Varmt välkomna! \nArrangör: Snyggt & Tryggt i Sjöstaden i samverkan med Sjöstadsföreningen och Nattvandring i Sjöstan. \nEventet har möjliggjorts genom ett föreningsbidrag från Södermalms stadsdelsnämnd\, för sommarinsatser för unga. \nSponsorer: Fabege\, ICA Supermarket Mårtensdal\, Coop Sickla Kaj\, Hemmakväll Hammarby Sjöstad\, TriffiQ och Remondis. \nVill du också vara med och bidra: Kom till torget och prata med oss eller swisha valfritt belopp till: 123 057 67 51
URL:https://sjostadsnytt.se/event/sommartorg-luma-2-2-2-2/
CATEGORIES:Boende,Föreningar,Företag
ATTACH;FMTTYPE=image/jpeg:https://sjostadsnytt.se/wp-content/uploads/2024/05/Sommartorg.jpg
END:VEVENT
BEGIN:VEVENT
DTSTART;TZID=UTC:20240617T160000
DTEND;TZID=UTC:20240617T200000
DTSTAMP:20260422T191253
CREATED:20240527T095921Z
LAST-MODIFIED:20240613T083736Z
UID:1848-1718640000-1718654400@sjostadsnytt.se
SUMMARY:Sommartorg Luma
DESCRIPTION:Sommartorg Luma ordnas i år igen på Luma torg med aktiviteter efter skolavslutningen\, 12-18 juni kl. 16.00 – 20.00\, och inför skolstarten 12-17 augusti kl. 16.00 – 20.00. \nTillsammans kommer vi levandegöra Luma torg med en massa roliga aktiviteter för våra unga. Barn och ungdomar kommer kunna delta i olika aktiviteter och göra trevliga saker\, träffa vuxna och äldre ungdomar eller bara hänga på torget. Vi kommer lyssna in vad de vill och skapa aktiviteter utifrån deras önskemål\, där så är möjligt. På torget kommer det varje dag att finnas bord\, stolar\, spel\, utelek\, pingis och annat att ägna sig åt. Ambitionen med Sommartorget är som förra året att dessa aktivitet ska bidra till ett mer levande\, upplevelsemässigt tryggare Luma torg där nya dialoger mellan barn och vuxna kan starta och stärka gemenskapen i Sjöstan. \n  \nHär är lite av det som kommer att ske: \n* Fik – alla dagar. Hålls av flicklag från Hammarby fotboll. \n* Fryshusets Lovely Days närvarar 14  och 17 juni kl. 18 – 20\, med basket\, pannafotboll och skate. \n* Biblioteket håller i diverse pyssel 13 juni kl. 16-17. \n* Ponnyridning 15 och 16 juni\, samt 17 augusti\, \nProgrammet är inte helt klart än och kommer att fyllas på. \n  \nÄr du intresserad av att vara med som volontär någon av dagarna? \nVill du sponsra eventet i någon form? \nHar du kanske någon kul utemöbel\, saccosäck eller annat som kan passa in på Sommartorget att skänka? \nMejla då till: info@snyggtochtryggt.se eller swisha bidrag till: \n123 057 67 51 (ange: Sommartorg Luma i meddelandet). \n  \nTack på förhand och Varmt välkomna! \nArrangör: Snyggt & Tryggt i Sjöstaden i samverkan med Sjöstadsföreningen och Nattvandring i Sjöstan. \nEventet har möjliggjorts genom ett föreningsbidrag från Södermalms stadsdelsnämnd\, för sommarinsatser för unga. \nSponsorer: Fabege\, ICA Supermarket Mårtensdal\, Coop Sickla Kaj\, Hemmakväll Hammarby Sjöstad\, TriffiQ och Remondis. \nVill du också vara med och bidra: Kom till torget och prata med oss eller swisha valfritt belopp till: 123 057 67 51
URL:https://sjostadsnytt.se/event/sommartorg-luma-2-2-2-2-2/
CATEGORIES:Boende,Föreningar,Företag
ATTACH;FMTTYPE=image/png:https://sjostadsnytt.se/wp-content/uploads/2024/05/Sommartorg-Luma-2024.png
END:VEVENT
BEGIN:VEVENT
DTSTART;TZID=UTC:20240617T190000
DTEND;TZID=UTC:20240617T220000
DTSTAMP:20260422T191253
CREATED:20240425T113632Z
LAST-MODIFIED:20240604T102003Z
UID:1807-1718650800-1718661600@sjostadsnytt.se
SUMMARY:Dansant måndag - INSTÄLLT
DESCRIPTION:Dans till levande orkester på Eatery Lumafabriken\, Lumaparksvägen 7\,  varannan måndag kl 19.00. Entrén är 195 kr (endast swish eller kort) och i baren finns vin och öl till förmånliga priser samt lättare förtäring.  \n 
URL:https://sjostadsnytt.se/event/dansant-mandag-2-2-2-2-2-2-2-2-2-2-2/
LOCATION:Eatery Lumafabriken\, Lumaparksvägen 7
CATEGORIES:Boende,Föreningar
ATTACH;FMTTYPE=image/jpeg:https://sjostadsnytt.se/wp-content/uploads/2023/08/Dans-pa-luma.jpg
ORGANIZER;CN="Dansant M%C3%A5ndag":MAILTO:mats.gallno@gmail.com
END:VEVENT
BEGIN:VEVENT
DTSTART;TZID=UTC:20240618T160000
DTEND;TZID=UTC:20240618T200000
DTSTAMP:20260422T191253
CREATED:20240527T100109Z
LAST-MODIFIED:20240613T083805Z
UID:1850-1718726400-1718740800@sjostadsnytt.se
SUMMARY:Sommartorg Luma
DESCRIPTION:Sommartorg Luma ordnas i år igen på Luma torg med aktiviteter efter skolavslutningen\, 12-18 juni kl. 16.00 – 20.00\, och inför skolstarten 12-17 augusti kl. 16.00 – 20.00. \nTillsammans kommer vi levandegöra Luma torg med en massa roliga aktiviteter för våra unga. Barn och ungdomar kommer kunna delta i olika aktiviteter och göra trevliga saker\, träffa vuxna och äldre ungdomar eller bara hänga på torget. Vi kommer lyssna in vad de vill och skapa aktiviteter utifrån deras önskemål\, där så är möjligt. På torget kommer det varje dag att finnas bord\, stolar\, spel\, utelek\, pingis och annat att ägna sig åt. Ambitionen med Sommartorget är som förra året att dessa aktivitet ska bidra till ett mer levande\, upplevelsemässigt tryggare Luma torg där nya dialoger mellan barn och vuxna kan starta och stärka gemenskapen i Sjöstan. \n  \nHär är lite av det som kommer att ske: \n* Fik – alla dagar. Hålls av flicklag från Hammarby fotboll. \n* Fryshusets Lovely Days närvarar 14  och 17 juni kl. 18 – 20\, med basket\, pannafotboll och skate. \n* Biblioteket håller i diverse pyssel 13 juni kl. 16-17. \n* Ponnyridning 15 och 16 juni\, samt 17 augusti\, \nProgrammet är inte helt klart än och kommer att fyllas på. \n  \nÄr du intresserad av att vara med som volontär någon av dagarna? \nVill du sponsra eventet i någon form? \nHar du kanske någon kul utemöbel\, saccosäck eller annat som kan passa in på Sommartorget att skänka? \nMejla då till: info@snyggtochtryggt.se eller swisha bidrag till: \n123 057 67 51 (ange: Sommartorg Luma i meddelandet). \n  \nTack på förhand och Varmt välkomna! \nArrangör: Snyggt & Tryggt i Sjöstaden i samverkan med Sjöstadsföreningen och Nattvandring i Sjöstan. \nEventet har möjliggjorts genom ett föreningsbidrag från Södermalms stadsdelsnämnd\, för sommarinsatser för unga. \nSponsorer: Fabege\, ICA Supermarket Mårtensdal\, Coop Sickla Kaj\, Hemmakväll Hammarby Sjöstad\, TriffiQ och Remondis. \nVill du också vara med och bidra: Kom till torget och prata med oss eller swisha valfritt belopp till: 123 057 67 51
URL:https://sjostadsnytt.se/event/sommartorg-luma-2-2-2-2-2-2/
CATEGORIES:Boende,Föreningar,Företag
ATTACH;FMTTYPE=image/png:https://sjostadsnytt.se/wp-content/uploads/2024/05/Sommartorg-Luma-2024.png
END:VEVENT
END:VCALENDAR