BEGIN:VCALENDAR
VERSION:2.0
PRODID:-//Sjöstadsnytt - ECPv6.15.20//NONSGML v1.0//EN
CALSCALE:GREGORIAN
METHOD:PUBLISH
X-WR-CALNAME:Sjöstadsnytt
X-ORIGINAL-URL:https://sjostadsnytt.se
X-WR-CALDESC:Händelser för Sjöstadsnytt
REFRESH-INTERVAL;VALUE=DURATION:PT1H
X-Robots-Tag:noindex
X-PUBLISHED-TTL:PT1H
BEGIN:VTIMEZONE
TZID:UTC
BEGIN:STANDARD
TZOFFSETFROM:+0000
TZOFFSETTO:+0000
TZNAME:UTC
DTSTART:20230101T000000
END:STANDARD
END:VTIMEZONE
BEGIN:VEVENT
DTSTART;TZID=UTC:20240909T190000
DTEND;TZID=UTC:20240909T220000
DTSTAMP:20260423T010742
CREATED:20240808T113838Z
LAST-MODIFIED:20240820T101418Z
UID:1897-1725908400-1725919200@sjostadsnytt.se
SUMMARY:Dansant måndag
DESCRIPTION:Dans till levande orkester på Eatery Lumafabriken\, Lumaparksvägen 7\, måndag 9 september kl 19.00. Entrén är 195 kr (endast swish eller kort) och i baren finns vin och öl till förmånliga priser samt lättare förtäring.  \nIkväll spelar Only on a Monday \nHöstens danskvällar blir följande måndagar: 9/9\, 30/9\, 21/10 och 11/11
URL:https://sjostadsnytt.se/event/dansant-mandag-2-2-2-2-2-2-2-2-3/
LOCATION:Eatery Lumafabriken\, Lumaparksvägen 7
CATEGORIES:Boende,Föreningar
ATTACH;FMTTYPE=image/jpeg:https://sjostadsnytt.se/wp-content/uploads/2023/08/Dans-pa-luma.jpg
ORGANIZER;CN="Dansant M%C3%A5ndag":MAILTO:mats.gallno@gmail.com
END:VEVENT
BEGIN:VEVENT
DTSTART;TZID=UTC:20240911T150000
DTEND;TZID=UTC:20240911T190000
DTSTAMP:20260423T010742
CREATED:20240910T083251Z
LAST-MODIFIED:20240910T083251Z
UID:1952-1726066800-1726081200@sjostadsnytt.se
SUMMARY:Smidig och smärtfri
DESCRIPTION:ÖPPET HUS 11 SEPTEMBER FRÅN KL. 15:00 på AO PERFORMANCE CENTER!\n \n\nVill du kunna röra dig smidigt\, vara smärtfri och dessutom ha roligt på kuppen?\nÄr du 50+ och vill du ta chansen att bli smärtfri\, starkare och rörligare?\nAO Performance erbjuder kvalitativ gruppträning och vi kan utlova mycket skratt och gemenskap.\n \nVälkommen till oss på Öppet Hus så berättar vi mer!\n\n\n \n \nProgram\n \nFredrik Paulún\nEn av Sveriges mest kända näringsfysiologer och föreläsare inom kost och hälsa\, föreläser om rödjusbehandling och dess många fördelar gällande läkning\, immunförsvar\, smärtbehandling med mera.\n \nAndreas Öhgren\nGrundare av AO Performance\, föreläser om AO:s träningsfilosofi som passar både elitidrottare och människor som vill kunna leva ett smärtfritt och aktivt liv.\n \nNäringsexperter från Pureness\nDiskutera kost och lär dig om de senaste kosttillskotten som maxar din prestation.\n \nVi erbjuder dessutom följande till samtliga besökare:\n• “Prova på”-träning utan kostnad första gången.\n•  En fasciabehandling (bindväv) utan kostnad vid köp av 10 st träningstillfällen.\n• “Prova på”- behandling av rödjusterapi\n•  Testa koppning och prata med specialister om behandlingens alla fördelar\n•  Tävling där du kan vinna kosttillskott\n \nMissa inte chansen att ställa frågor till Fredrik Paulin\, Andreas Öhgren och resten av gänget på AO Performance!\n \n\nFöreläsningarna börjar kl 17:00!\n \n \nVarmt välkomna!\nAndreas\, Ulrika\, Agnes\, Mikael\, Pontus & Jörgen\n \n\n                                        LUGNETS ALLÉ 5\, HAMMARBY SJÖSTAD 
URL:https://sjostadsnytt.se/event/smidig-och-smartfri/
LOCATION:Lugnets Alle 5
CATEGORIES:Boende
ATTACH;FMTTYPE=image/jpeg:https://sjostadsnytt.se/wp-content/uploads/2024/09/AO.jpg
END:VEVENT
BEGIN:VEVENT
DTSTART;TZID=UTC:20240928T100000
DTEND;TZID=UTC:20240928T160000
DTSTAMP:20260423T010742
CREATED:20240903T101802Z
LAST-MODIFIED:20240903T101802Z
UID:1941-1727517600-1727539200@sjostadsnytt.se
SUMMARY:Återbruk i Sjöstan
DESCRIPTION:Ta chansen att befria dig från onödiga prylar när Pop-up återbruk dyker upp i Hammarby Sjöstad. De tar till exempel emot grovavfall\, små möbler\, textil\, elektronik och miljöfarligt avfall. \nHammarby Kaj: 28-29 september kl. 10-16 \nTorkhusgatan 5-6 oktober kl. 10-16 \nMer info här om vad man kan lämna och hämta. Pop-up återbruk i Stockholm | Stockholm Vatten och Avfall \nDet går även att anmäla sig till SMS utskick för att få en påminnelse om när pop-up återbruk kommer till stadsdelen.
URL:https://sjostadsnytt.se/event/aterbruk-i-sjostan/
LOCATION:Hammarby Kaj
CATEGORIES:Boende,Föreningar,Företag
ATTACH;FMTTYPE=image/jpeg:https://sjostadsnytt.se/wp-content/uploads/2024/09/aterbruk.jpg
END:VEVENT
BEGIN:VEVENT
DTSTART;TZID=UTC:20240930T190000
DTEND;TZID=UTC:20240930T220000
DTSTAMP:20260423T010742
CREATED:20240808T113909Z
LAST-MODIFIED:20240820T101448Z
UID:1899-1727722800-1727733600@sjostadsnytt.se
SUMMARY:Dansant måndag
DESCRIPTION:Dans till levande orkester på Eatery Lumafabriken\, Lumaparksvägen 7\, måndag 30 september kl 19.00. Entrén är 195 kr (endast swish eller kort) och i baren finns vin och öl till förmånliga priser samt lättare förtäring.  \nIkväll spelar Soft Dance Quartet \nHöstens danskvällar blir följande måndagar: 9/9\, 30/9\, 21/10 och 11/11
URL:https://sjostadsnytt.se/event/dansant-mandag-2-2-2-2-2-2-2-2-3-2/
LOCATION:Eatery Lumafabriken\, Lumaparksvägen 7
CATEGORIES:Boende,Föreningar
ATTACH;FMTTYPE=image/jpeg:https://sjostadsnytt.se/wp-content/uploads/2023/08/Dans-pa-luma.jpg
ORGANIZER;CN="Dansant M%C3%A5ndag":MAILTO:mats.gallno@gmail.com
END:VEVENT
END:VCALENDAR