BEGIN:VCALENDAR
VERSION:2.0
PRODID:-//Sjöstadsnytt - ECPv6.15.20//NONSGML v1.0//EN
CALSCALE:GREGORIAN
METHOD:PUBLISH
X-ORIGINAL-URL:https://sjostadsnytt.se
X-WR-CALDESC:Händelser för Sjöstadsnytt
REFRESH-INTERVAL;VALUE=DURATION:PT1H
X-Robots-Tag:noindex
X-PUBLISHED-TTL:PT1H
BEGIN:VTIMEZONE
TZID:UTC
BEGIN:STANDARD
TZOFFSETFROM:+0000
TZOFFSETTO:+0000
TZNAME:UTC
DTSTART:20230101T000000
END:STANDARD
END:VTIMEZONE
BEGIN:VEVENT
DTSTART;TZID=UTC:20241205T183000
DTEND;TZID=UTC:20241205T200000
DTSTAMP:20260423T062147
CREATED:20241009T080708Z
LAST-MODIFIED:20241009T080812Z
UID:1959-1733423400-1733428800@sjostadsnytt.se
SUMMARY:Julfest med luciatåg
DESCRIPTION:5 december kl 18.30 \nVi firar traditionsenlig julfest med luciatåg\, föredrag och lotteri i församlingssalen. Det börjar med kaffe och sedan luciatåg (ca kl 19). Efter luciatåget berättar Lena Sjöberg från Sofia församling om människorna som bodde i kyrkstugorna nedanför Sofia kyrka. Stora Församlingssalen Borgmästargatan 11 Anmälan senast 2/12! Kostnad 100 kr insättes på plusgiro 558368-7 eller betalas kontant eller med swish vid Julfesten. \nArrangör: Sofia Hembygdsförening \nAnmälningar till aktiviteterna görs till Gertrud\, gmwahlund@gmail.com eller SMS till 072-371 2050 Medlemsavgiften för 2024 är 150 kr för huvudmedlem och 50 kr för familjemedlem. Inbetalning sker till plusgiro 558368-7. Glöm inte att ange ert eget namn!
URL:https://sjostadsnytt.se/event/guidad-vandring-2-2/
CATEGORIES:Boende,Föreningar
ATTACH;FMTTYPE=image/jpeg:https://sjostadsnytt.se/wp-content/uploads/2023/09/Jul.jpg
END:VEVENT
BEGIN:VEVENT
DTSTART;TZID=UTC:20241215T110000
DTEND;TZID=UTC:20241215T130000
DTSTAMP:20260423T062147
CREATED:20241009T080940Z
LAST-MODIFIED:20241009T080940Z
UID:1961-1734260400-1734267600@sjostadsnytt.se
SUMMARY:Luciagudstjänst
DESCRIPTION:Söndag 15 december kl 11.00 \nLUCIAGUDSTJÄNST i Sjöstadskapellet  Spontant luciatåg med de minsta tillsammans med Klapp & Klang och Minikörerna. Kom gärna lusse-klädd! Präst Åsa Jakobsson\, musiker Majda Burstedt. Efter gudstjänsten bjuder Sofia Hembygdsförening på fika och det finns möjlighet att julpyssla. \nArrangör: Sofia Hembygdsförening \nAnmälningar till aktiviteterna görs till Gertrud\, gmwahlund@gmail.com eller SMS till 072-371 2050 Medlemsavgiften för 2024 är 150 kr för huvudmedlem och 50 kr för familjemedlem. Inbetalning sker till plusgiro 558368-7. Glöm inte att ange ert eget namn!
URL:https://sjostadsnytt.se/event/guidad-vandring-2/
CATEGORIES:Boende,Föreningar
ATTACH;FMTTYPE=image/jpeg:https://sjostadsnytt.se/wp-content/uploads/2023/09/Jul.jpg
END:VEVENT
BEGIN:VEVENT
DTSTART;TZID=UTC:20241223T120000
DTEND;TZID=UTC:20241223T180000
DTSTAMP:20260423T062147
CREATED:20241209T090038Z
LAST-MODIFIED:20241209T090038Z
UID:2000-1734955200-1734976800@sjostadsnytt.se
SUMMARY:Jullov på Fryshuset
DESCRIPTION:Under jullovsveckan 23 december – 3 januari i Stockholm anordnar vi i vanlig ordning en mängd aktiviteter i Fryshuset. Vi kommer pyssla\, testa kampsport\, dreja\, bygga pepparkakshus\, spela pingis\, testa Fußball\, köra Laserdome\, ha Mario Kart turnering\, titta på film\, besöka skansen\, spela basket och mycket mycket mer.  Alla aktiviteter är gratis och vi bjuder på lunch till alla anmälda deltagare. \nAnmälan för jullovet på Lovely Days görs på plats i Fryshusets foajé på Mårtensdalsgatan 2-8. De flesta av våra aktiviteter kräver ingen föranmälning utan man skriver upp sig på plats. De aktiviteter som kräver föranmälan framgår nedan. Vill du göra en föranmälan kan du skriva ett meddelande till oss på vår INSTAGRAM @fryshusetlovelydays \nÖppettider \nMåndag 23 december kl 12:00-18:00\nFredag 27 december kl 12:00-18:00\nMåndag 30 december kl 12:00-18:00\nTorsdag 2 januari 12:00-18:00\nFredag 3 januari 12:00-18:00 \nJulmarknad på Skansen (Fredag 27 december kl 12:00-16:00) \nHäng med Lovely Days till Skansen! Titta på olika djur\, besök olika gårdar och lyssna på spännande historier! Vi möts på Fryshuset klockan 12:00 och åker tillsammans till Skansen. Åter på Fryshuset cirka 16:00. Vi bjuder på lunch. Ta med busskort! Föranmälan krävs. Begränsat antal platser\, först till kvarn. Skicka ett meddelande till vår INSTAGRAM vid anmälan för Skansen. \nTekniska museet (Måndag 30 december kl 13:00-17:00) \nHäng med Lovely Days till Tekniska museet! Utforska teknikens oändliga kreativitet och testa massa roliga experiment. En spännande plats där du kan utforska teknikens värld ­– från häftiga robotar till fantastiska uppfinningar. \nVi möts på Fryshuset klockan 13:00 och åker tillsammans till Tekniska museet. Kom 12:00 om du vill äta lunch på Fryshuset innan (gratis). Åter på Fryshuset cirka 17:00. Ta med busskort! Föranmälan krävs. Begränsat antal platser\, först till kvarn. Skicka ett meddelande till vår INSTAGRAM vid anmälan för Tekniska museet. \nGymmet (Fredag 27 december kl 14:00-15:00 samt Torsdag 2 januari kl 14:00-15:00) \nVälkommen att testa på att gymma tillsammans med Fryshusets gymexperter! Här har du möjlighet att lära dig hur olika maskiner fungerar\, testa på olika träningsformer och få kunskap om vad som är viktigt att tänka på när du tränar. Inga förkunskaper krävs! Skriv ett meddelande till oss på vår INSTAGRAM @fryshusetlovelydays om du vill vara med. \nRollspel (Torsdag 2 januari kl 13:00-15:00) \nSpelföreningen SVEROK visar och spelar rollspel med oss! Förbered dig på att förtrollas av en värld full av demoner\, drakar och massa annat spännande fantasy-inslag! ! Skriv ett meddelande till oss på vår INSTAGRAM @fryshusetlovelydays om du vill vara med. \nDJ-workshop (Måndag 30 december kl 13:00-17:00 samt Fredag 3 januari kl 13:00-17:00) \nVälkommen att testa på DJ med musikproffset Elias\, för dig som är expert eller nybörjare! \nLovely Days Instagram: @fryshusetlovelydays \nLovely Days hemsida: https://fryshuset.se/verksamhet/lovely-days/lov-i-hammarby-sjostad/jullov-i-hammarby-sjostad \n 
URL:https://sjostadsnytt.se/event/jullov-pa-fryshuset/
LOCATION:Fryshuset\, Mårtensdalsgatan 6
CATEGORIES:Boende
ATTACH;FMTTYPE=image/jpeg:https://sjostadsnytt.se/wp-content/uploads/2024/04/Fryshuset-fotograf-viktor-gardsater-hog2028129.jpg
END:VEVENT
BEGIN:VEVENT
DTSTART;TZID=UTC:20241227T120000
DTEND;TZID=UTC:20241227T180000
DTSTAMP:20260423T062147
CREATED:20241209T090131Z
LAST-MODIFIED:20241209T090131Z
UID:2002-1735300800-1735322400@sjostadsnytt.se
SUMMARY:Jullov på Fryshuset
DESCRIPTION:Under jullovsveckan 23 december – 3 januari i Stockholm anordnar vi i vanlig ordning en mängd aktiviteter i Fryshuset. Vi kommer pyssla\, testa kampsport\, dreja\, bygga pepparkakshus\, spela pingis\, testa Fußball\, köra Laserdome\, ha Mario Kart turnering\, titta på film\, besöka skansen\, spela basket och mycket mycket mer.  Alla aktiviteter är gratis och vi bjuder på lunch till alla anmälda deltagare. \nAnmälan för jullovet på Lovely Days görs på plats i Fryshusets foajé på Mårtensdalsgatan 2-8. De flesta av våra aktiviteter kräver ingen föranmälning utan man skriver upp sig på plats. De aktiviteter som kräver föranmälan framgår nedan. Vill du göra en föranmälan kan du skriva ett meddelande till oss på vår INSTAGRAM @fryshusetlovelydays \nÖppettider \nMåndag 23 december kl 12:00-18:00\nFredag 27 december kl 12:00-18:00\nMåndag 30 december kl 12:00-18:00\nTorsdag 2 januari 12:00-18:00\nFredag 3 januari 12:00-18:00 \nJulmarknad på Skansen (Fredag 27 december kl 12:00-16:00) \nHäng med Lovely Days till Skansen! Titta på olika djur\, besök olika gårdar och lyssna på spännande historier! Vi möts på Fryshuset klockan 12:00 och åker tillsammans till Skansen. Åter på Fryshuset cirka 16:00. Vi bjuder på lunch. Ta med busskort! Föranmälan krävs. Begränsat antal platser\, först till kvarn. Skicka ett meddelande till vår INSTAGRAM vid anmälan för Skansen. \nTekniska museet (Måndag 30 december kl 13:00-17:00) \nHäng med Lovely Days till Tekniska museet! Utforska teknikens oändliga kreativitet och testa massa roliga experiment. En spännande plats där du kan utforska teknikens värld ­– från häftiga robotar till fantastiska uppfinningar. \nVi möts på Fryshuset klockan 13:00 och åker tillsammans till Tekniska museet. Kom 12:00 om du vill äta lunch på Fryshuset innan (gratis). Åter på Fryshuset cirka 17:00. Ta med busskort! Föranmälan krävs. Begränsat antal platser\, först till kvarn. Skicka ett meddelande till vår INSTAGRAM vid anmälan för Tekniska museet. \nGymmet (Fredag 27 december kl 14:00-15:00 samt Torsdag 2 januari kl 14:00-15:00) \nVälkommen att testa på att gymma tillsammans med Fryshusets gymexperter! Här har du möjlighet att lära dig hur olika maskiner fungerar\, testa på olika träningsformer och få kunskap om vad som är viktigt att tänka på när du tränar. Inga förkunskaper krävs! Skriv ett meddelande till oss på vår INSTAGRAM @fryshusetlovelydays om du vill vara med. \nRollspel (Torsdag 2 januari kl 13:00-15:00) \nSpelföreningen SVEROK visar och spelar rollspel med oss! Förbered dig på att förtrollas av en värld full av demoner\, drakar och massa annat spännande fantasy-inslag! ! Skriv ett meddelande till oss på vår INSTAGRAM @fryshusetlovelydays om du vill vara med. \nDJ-workshop (Måndag 30 december kl 13:00-17:00 samt Fredag 3 januari kl 13:00-17:00) \nVälkommen att testa på DJ med musikproffset Elias\, för dig som är expert eller nybörjare! \nLovely Days Instagram: @fryshusetlovelydays \nLovely Days hemsida: https://fryshuset.se/verksamhet/lovely-days/lov-i-hammarby-sjostad/jullov-i-hammarby-sjostad \n 
URL:https://sjostadsnytt.se/event/jullov-pa-fryshuset-2/
LOCATION:Fryshuset\, Mårtensdalsgatan 6
CATEGORIES:Boende
ATTACH;FMTTYPE=image/jpeg:https://sjostadsnytt.se/wp-content/uploads/2024/04/Fryshuset-fotograf-viktor-gardsater-hog2028129.jpg
END:VEVENT
BEGIN:VEVENT
DTSTART;TZID=UTC:20241230T120000
DTEND;TZID=UTC:20241230T180000
DTSTAMP:20260423T062147
CREATED:20241209T090200Z
LAST-MODIFIED:20241209T090200Z
UID:2004-1735560000-1735581600@sjostadsnytt.se
SUMMARY:Jullov på Fryshuset
DESCRIPTION:Under jullovsveckan 23 december – 3 januari i Stockholm anordnar vi i vanlig ordning en mängd aktiviteter i Fryshuset. Vi kommer pyssla\, testa kampsport\, dreja\, bygga pepparkakshus\, spela pingis\, testa Fußball\, köra Laserdome\, ha Mario Kart turnering\, titta på film\, besöka skansen\, spela basket och mycket mycket mer.  Alla aktiviteter är gratis och vi bjuder på lunch till alla anmälda deltagare. \nAnmälan för jullovet på Lovely Days görs på plats i Fryshusets foajé på Mårtensdalsgatan 2-8. De flesta av våra aktiviteter kräver ingen föranmälning utan man skriver upp sig på plats. De aktiviteter som kräver föranmälan framgår nedan. Vill du göra en föranmälan kan du skriva ett meddelande till oss på vår INSTAGRAM @fryshusetlovelydays \nÖppettider \nMåndag 23 december kl 12:00-18:00\nFredag 27 december kl 12:00-18:00\nMåndag 30 december kl 12:00-18:00\nTorsdag 2 januari 12:00-18:00\nFredag 3 januari 12:00-18:00 \nJulmarknad på Skansen (Fredag 27 december kl 12:00-16:00) \nHäng med Lovely Days till Skansen! Titta på olika djur\, besök olika gårdar och lyssna på spännande historier! Vi möts på Fryshuset klockan 12:00 och åker tillsammans till Skansen. Åter på Fryshuset cirka 16:00. Vi bjuder på lunch. Ta med busskort! Föranmälan krävs. Begränsat antal platser\, först till kvarn. Skicka ett meddelande till vår INSTAGRAM vid anmälan för Skansen. \nTekniska museet (Måndag 30 december kl 13:00-17:00) \nHäng med Lovely Days till Tekniska museet! Utforska teknikens oändliga kreativitet och testa massa roliga experiment. En spännande plats där du kan utforska teknikens värld ­– från häftiga robotar till fantastiska uppfinningar. \nVi möts på Fryshuset klockan 13:00 och åker tillsammans till Tekniska museet. Kom 12:00 om du vill äta lunch på Fryshuset innan (gratis). Åter på Fryshuset cirka 17:00. Ta med busskort! Föranmälan krävs. Begränsat antal platser\, först till kvarn. Skicka ett meddelande till vår INSTAGRAM vid anmälan för Tekniska museet. \nGymmet (Fredag 27 december kl 14:00-15:00 samt Torsdag 2 januari kl 14:00-15:00) \nVälkommen att testa på att gymma tillsammans med Fryshusets gymexperter! Här har du möjlighet att lära dig hur olika maskiner fungerar\, testa på olika träningsformer och få kunskap om vad som är viktigt att tänka på när du tränar. Inga förkunskaper krävs! Skriv ett meddelande till oss på vår INSTAGRAM @fryshusetlovelydays om du vill vara med. \nRollspel (Torsdag 2 januari kl 13:00-15:00) \nSpelföreningen SVEROK visar och spelar rollspel med oss! Förbered dig på att förtrollas av en värld full av demoner\, drakar och massa annat spännande fantasy-inslag! ! Skriv ett meddelande till oss på vår INSTAGRAM @fryshusetlovelydays om du vill vara med. \nDJ-workshop (Måndag 30 december kl 13:00-17:00 samt Fredag 3 januari kl 13:00-17:00) \nVälkommen att testa på DJ med musikproffset Elias\, för dig som är expert eller nybörjare! \nLovely Days Instagram: @fryshusetlovelydays \nLovely Days hemsida: https://fryshuset.se/verksamhet/lovely-days/lov-i-hammarby-sjostad/jullov-i-hammarby-sjostad \n 
URL:https://sjostadsnytt.se/event/jullov-pa-fryshuset-2-2/
LOCATION:Fryshuset\, Mårtensdalsgatan 6
CATEGORIES:Boende
ATTACH;FMTTYPE=image/jpeg:https://sjostadsnytt.se/wp-content/uploads/2024/04/Fryshuset-fotograf-viktor-gardsater-hog2028129.jpg
END:VEVENT
END:VCALENDAR