BEGIN:VCALENDAR
VERSION:2.0
PRODID:-//Sjöstadsnytt - ECPv6.15.20//NONSGML v1.0//EN
CALSCALE:GREGORIAN
METHOD:PUBLISH
X-ORIGINAL-URL:https://sjostadsnytt.se
X-WR-CALDESC:Händelser för Sjöstadsnytt
REFRESH-INTERVAL;VALUE=DURATION:PT1H
X-Robots-Tag:noindex
X-PUBLISHED-TTL:PT1H
BEGIN:VTIMEZONE
TZID:UTC
BEGIN:STANDARD
TZOFFSETFROM:+0000
TZOFFSETTO:+0000
TZNAME:UTC
DTSTART:20240101T000000
END:STANDARD
END:VTIMEZONE
BEGIN:VEVENT
DTSTART;TZID=UTC:20250203T190000
DTEND;TZID=UTC:20250203T220000
DTSTAMP:20260423T093534
CREATED:20250121T111356Z
LAST-MODIFIED:20250121T111356Z
UID:2030-1738609200-1738620000@sjostadsnytt.se
SUMMARY:Dansant måndag
DESCRIPTION:Dans till levande orkester på Eatery Lumafabriken\, Lumaparksvägen 7\, måndag 11 november kl 19.00. Entrén är 195 kr (endast swish eller kort) och i baren finns vin och öl till förmånliga priser samt lättare förtäring.  \nVårens danser: 3/2\, 3/3\, 7/4\, 5/5 och 2/6.
URL:https://sjostadsnytt.se/event/dansant-mandag-2-2-2-2-2-2-2-2-3-2-2-2-2/
LOCATION:Eatery Lumafabriken\, Lumaparksvägen 7
CATEGORIES:Boende,Föreningar
ATTACH;FMTTYPE=image/jpeg:https://sjostadsnytt.se/wp-content/uploads/2023/08/Dans-pa-luma.jpg
ORGANIZER;CN="Dansant M%C3%A5ndag":MAILTO:mats.gallno@gmail.com
END:VEVENT
BEGIN:VEVENT
DTSTART;TZID=UTC:20250212T160000
DTEND;TZID=UTC:20250212T190000
DTSTAMP:20260423T093534
CREATED:20250121T111949Z
LAST-MODIFIED:20250121T111949Z
UID:2040-1739376000-1739386800@sjostadsnytt.se
SUMMARY:Inför Alla Hjärtans dag
DESCRIPTION:Välkommen på en kärleksfull kväll inför Alla Hjärtans Dag!\nTillsammans med UNITY\, Företagare i Sjöstan arrangerar Sjöstadsföreningen en fin kväll för alla i sjöstaden. Perfekt uppladdning med AW-priser i baren och möjlighet att handla blommor och choklad inför den stora dagen på fredag. Till detta bjuder vi på stämningsfull live-musik\, ansiktsmålning för de yngre och goda överraskningar till alla ungdomar. Utvalda Företagare i Sjöstaden kommer dela med sig av hjärtliga erbjudanden \nDet blir en kväll med något för alla. Ingen anmälan behövs. Tag med dina kära och kom! \nLäs mer här! \nVänliga hälsningar Sjöstadsföreningen\, Företagare i Sjöstaden och UNITY
URL:https://sjostadsnytt.se/event/infor-alla-hjartans-dag-2/
CATEGORIES:Boende,Föreningar,Företag
ATTACH;FMTTYPE=image/png:https://sjostadsnytt.se/wp-content/uploads/2025/01/Hjarta-845x321-1.png
END:VEVENT
BEGIN:VEVENT
DTSTART;TZID=UTC:20250224T120000
DTEND;TZID=UTC:20250228T180000
DTSTAMP:20260423T093534
CREATED:20250214T101624Z
LAST-MODIFIED:20250214T101624Z
UID:2049-1740398400-1740765600@sjostadsnytt.se
SUMMARY:Sportlov på Fryshuset
DESCRIPTION:Under sportlovet 24-28 december händer det mycket för barn och ungdomar på Fryshuset i Hammarby Sjöstad. \nSportlovet med Lovely Days \nDet blir bland annat drejning\, basket\, DJ-workshops\, rollspel\, musikproduktion\, bordshockeyturnering\, tårtbakning\, kreativ verkstad och möjlighet att testa på att spela i band. Här hittar du all info om vad för aktiviteter som kommer ske i huset 24 – 28 feb: \nhttps://fryshuset.se/verksamhet/lovely-days/lov-i-hammarby-sjostad/sportlov \n  \nUrpremiär av livepoddserien Soha söker svar på Tro och Mening 24 feb 18.00-20.00 \nVi börjar sportlovsveckan med ett öppet poddsamtal om Existentiell hälsa! I panelen på scen får ni lyssna till Iman Nasir Arif vid Aysha Moskén i Vasastan och själavårdare på häktet i Sollentuna\, Mona Laskar\, deltagare i TFS (Fryshusets verksamhet Tillsammans för Sverige) och utbildad terapeut med fokus på intersektionellt förtryck\, samt Cecilia Melder\, forskare i existentiell hälsa vid Myndigheter för stöd till Trossamfun (SST). Programleder gör journalisten och TFS medarbetaren Soha Osman! \nLivepodden är ett samarbete mellan verksamheterna\, Tillsammans för Sverige (TFS)\, LIV1 och Sveriges Interreligiösa Råd (SIR) där unga får ställa frågor till Sveriges religiösa företrädare om aktuella frågor som påverkar deras vardag och fram idag i Sverige. Livepodden har möjliggjorts med stöd av Lunds Missionssällskap och Diversity in Action Världskulturmuseet\, Kulturdepartementet\, Anna Lindh Foundation och EU. Poddsamtalet är öppet för alla! \n  \nBasketmatcher \nVill man se på basketmatch så har vi många möjligheter under februari månad. \nFryshuset Basket spelar match mot bland annat Ockelbo (Herr)\, Eskilstuna (Herr)  och Blackeberg (Dam). Du kan hitta all info på fryshusetbasket.se https://www.fryshusetbasket.se/herrochdamlag \nTider och datum för matcherna som spelas i februari på Center Court här i Fryshuset hittar du även här: \nhttps://www.profixio.com/app/tournaments?filters[open_registration]=0&filters[kampoppsett]=1&filters[land_id]=se&filters[type]=seriespill&filters[nivaa]=496&filters[idrett]=BB&filters[listingtype]=matches&filters[season]=733&dateTo=2025-05-31&anleggid=3450&dateFrom=2025-01-29 \n 
URL:https://sjostadsnytt.se/event/jullov-pa-fryshuset-2-2-2-2-2/
LOCATION:Fryshuset\, Mårtensdalsgatan 6
CATEGORIES:Boende
ATTACH;FMTTYPE=image/jpeg:https://sjostadsnytt.se/wp-content/uploads/2024/04/Fryshuset-fotograf-viktor-gardsater-hog2028129.jpg
END:VEVENT
END:VCALENDAR