BEGIN:VCALENDAR
VERSION:2.0
PRODID:-//Sjöstadsnytt - ECPv6.15.20//NONSGML v1.0//EN
CALSCALE:GREGORIAN
METHOD:PUBLISH
X-WR-CALNAME:Sjöstadsnytt
X-ORIGINAL-URL:https://sjostadsnytt.se
X-WR-CALDESC:Händelser för Sjöstadsnytt
REFRESH-INTERVAL;VALUE=DURATION:PT1H
X-Robots-Tag:noindex
X-PUBLISHED-TTL:PT1H
BEGIN:VTIMEZONE
TZID:UTC
BEGIN:STANDARD
TZOFFSETFROM:+0000
TZOFFSETTO:+0000
TZNAME:UTC
DTSTART:20240101T000000
END:STANDARD
END:VTIMEZONE
BEGIN:VEVENT
DTSTART;TZID=UTC:20250407T190000
DTEND;TZID=UTC:20250407T220000
DTSTAMP:20260423T130036
CREATED:20250121T111450Z
LAST-MODIFIED:20250312T093828Z
UID:2034-1744052400-1744063200@sjostadsnytt.se
SUMMARY:Dansant måndag
DESCRIPTION:Dans till levande orkester på Eatery Lumafabriken\, Lumaparksvägen 7\, måndag 7 april kl 19.00. Entrén är 195 kr (endast swish eller kort) och i baren finns vin och öl till förmånliga priser samt lättare förtäring.  \nVårens danser: 3/2\, 3/3\, 7/4\, 5/5 och 2/6.
URL:https://sjostadsnytt.se/event/dansant-mandag-2-2-2-2-2-2-2-2-3-2-2-2-2-2-2/
LOCATION:Eatery Lumafabriken\, Lumaparksvägen 7
CATEGORIES:Boende,Föreningar
ATTACH;FMTTYPE=image/jpeg:https://sjostadsnytt.se/wp-content/uploads/2023/08/Dans-pa-luma.jpg
ORGANIZER;CN="Dansant M%C3%A5ndag":MAILTO:mats.gallno@gmail.com
END:VEVENT
BEGIN:VEVENT
DTSTART;TZID=UTC:20250409T183000
DTEND;TZID=UTC:20250409T203000
DTSTAMP:20260423T130036
CREATED:20250402T094138Z
LAST-MODIFIED:20250402T095042Z
UID:2078-1744223400-1744230600@sjostadsnytt.se
SUMMARY:Årsmöte hembygdsföreningen
DESCRIPTION:ÅRSMÖTE SOFIA HEMBYGDSFÖRENING – 9 april kl 18.30\nPå sedvanligt sätt presenteras dagordning och verksamhetsberättelse för 2024 vid själva årsmötet. En särskild punkt på dagordningen är andra läsningen av förslag till reviderade stadgar vilka beslutades första gången vid årsmötet i april 2024 – se bilaga. Efter årsmötet berättar föreningens ordförande Inger Johansson om drottning Sofia\, som har gett namn åt Sofia församling och därigenom även åt hembygdsföreningen. \nStora Församlingssalen Borgmästargatan 11 Anmälan senast 7/4! Ingen kostnad. \n\nAnmälningar görs till Gertrud Wahlund på e-post gmwahlund@gmail.com eller SMS till 072-371 2050. Sätt inte in pengar för ev avgifter förrän efter bekräftelse av anmälan. \nMedlemsavgiften för 2025 är 150 kr för huvudmedlem och 50 kr för familjemedlem. Inbetalning sker till plusgiro 558368-7. Glöm inte att ange ert eget namn!\nDen som önskar ta med en vän till någon av föreningens aktiviteter kan göra detta om vännen samtidigt blir medlem i föreningen och betalar medlemsavgift. \n\n\n\n\n\n\n 
URL:https://sjostadsnytt.se/event/2078/
CATEGORIES:Boende,Föreningar
ATTACH;FMTTYPE=image/jpeg:https://sjostadsnytt.se/wp-content/uploads/2025/04/Sofia-hembygdsforening.jpg
END:VEVENT
BEGIN:VEVENT
DTSTART;TZID=UTC:20250416T130000
DTEND;TZID=UTC:20250416T150000
DTSTAMP:20260423T130036
CREATED:20250415T122459Z
LAST-MODIFIED:20250415T122459Z
UID:2140-1744808400-1744815600@sjostadsnytt.se
SUMMARY:Kreativt på påsklovet
DESCRIPTION:Dieselverkstaden bjuder in alla barn från 3 år till en rolig pysselstund med påsktema. Kom och skapa färgglada påskdekorationer!\n\nDag och tid:  Onsdag 16 april\nNär: 13:00-15:00\nVar:  Lamberts hörna\, Järnvägsgatan 23 i Sickla
URL:https://sjostadsnytt.se/event/kreativt-pa-pasklovet/
LOCATION:Järnvägsgatan 23 i Sickla
CATEGORIES:Boende
END:VEVENT
BEGIN:VEVENT
DTSTART;TZID=UTC:20250426T110000
DTEND;TZID=UTC:20250426T160000
DTSTAMP:20260423T130036
CREATED:20250409T075831Z
LAST-MODIFIED:20250409T075831Z
UID:2116-1745665200-1745683200@sjostadsnytt.se
SUMMARY:Loppis vid Lugnets skola
DESCRIPTION:Lördagen den 26 april klockan 11-16 är det loppis på skolgården Lugnets skola\n“Välkommen till en härlig loppis i Sjöstaden! Fynda kläder\, prylar och leksaker -samtidigt som du stöttar vår skolresa. \nKom och fynda – eller bara ta en fika och umgås! Betalning sker med swish. \nArrangör: Klassföräldrarna i Stranden årskurs 6
URL:https://sjostadsnytt.se/event/loppis-vid-lugnets-skola/
LOCATION:Lugnets skola
CATEGORIES:Boende,Föreningar,Företag
ATTACH;FMTTYPE=image/jpeg:https://sjostadsnytt.se/wp-content/uploads/2025/04/Loppis.jpg
END:VEVENT
BEGIN:VEVENT
DTSTART;TZID=UTC:20250426T180000
DTEND;TZID=UTC:20250426T180000
DTSTAMP:20260423T130036
CREATED:20250303T092201Z
LAST-MODIFIED:20250425T082511Z
UID:2067-1745690400-1745690400@sjostadsnytt.se
SUMMARY:Kulturnatten i Sjöstan
DESCRIPTION:Lördag den 26 april kl 18-24 arrangeras Kulturnatten i Hammarby Sjöstad på Eatery Lumafabriken. Allt är kostnadsfritt. \nFör barn: Pysselhörna\, brädspel och sagogläntan \nLitteraturscenen: Föreläsningar av författare. 19.00 Allan Larsson\, 19.45  Yvonne Hirdman och 21.00 konstnären Lena Sjöberg. \nSångscenen: 18.30 David Gezelius\, 19.00 Sjöstanz\, 20.00 Marina & Eddy\, 21.00 Modesty´z och vänner och 22.00 Marina & Eddy. \nFilm: Stockholm på 60-talet\, 20.00 Del 1 och 21.30 Del 2 \nKonst: Sjöstadskonstnären Lena Sjöberg \nCaféet: Matkultur \nArrangör: Sofia Hembygdsförening\, Kultur i Sjöstan och Sjöstadsföreningen \n 
URL:https://sjostadsnytt.se/event/guidad-vandring-4-2/
CATEGORIES:Boende,Föreningar
ATTACH;FMTTYPE=image/jpeg:https://sjostadsnytt.se/wp-content/uploads/2023/05/Entertainmen.jpg
ORGANIZER;CN="Sj%C3%B6stadsf%C3%B6reningen":MAILTO:info@sjostadsforeningen.se
END:VEVENT
BEGIN:VEVENT
DTSTART;TZID=UTC:20250430T180000
DTEND;TZID=UTC:20250430T210000
DTSTAMP:20260423T130036
CREATED:20250303T092818Z
LAST-MODIFIED:20250416T150841Z
UID:2069-1746036000-1746046800@sjostadsnytt.se
SUMMARY:Valborgsfirande
DESCRIPTION:Den 30 april kl 19:30 är det traditionellt valborgsfirande i samverkan vid Lilla Sickla äng med brasa\, körsång och tal till våren. \nArrangör: Sofia Hembygdsförening och Sofia församling \n  \n  \n 
URL:https://sjostadsnytt.se/event/guidad-vandring-4/
LOCATION:Lilla Sickla äng
CATEGORIES:Boende,Föreningar
ATTACH;FMTTYPE=image/jpeg:https://sjostadsnytt.se/wp-content/uploads/2023/05/Sjostan_etta_kvall.jpg
END:VEVENT
END:VCALENDAR