BEGIN:VCALENDAR
VERSION:2.0
PRODID:-//Sjöstadsnytt - ECPv6.15.20//NONSGML v1.0//EN
CALSCALE:GREGORIAN
METHOD:PUBLISH
X-ORIGINAL-URL:https://sjostadsnytt.se
X-WR-CALDESC:Händelser för Sjöstadsnytt
REFRESH-INTERVAL;VALUE=DURATION:PT1H
X-Robots-Tag:noindex
X-PUBLISHED-TTL:PT1H
BEGIN:VTIMEZONE
TZID:UTC
BEGIN:STANDARD
TZOFFSETFROM:+0000
TZOFFSETTO:+0000
TZNAME:UTC
DTSTART:20240101T000000
END:STANDARD
END:VTIMEZONE
BEGIN:VEVENT
DTSTART;TZID=UTC:20250904T150000
DTEND;TZID=UTC:20250904T170000
DTSTAMP:20260423T225901
CREATED:20250402T095441Z
LAST-MODIFIED:20250515T073852Z
UID:2094-1756998000-1757005200@sjostadsnytt.se
SUMMARY:Vandring Slakthusområdet
DESCRIPTION:VANDRING I SLAKTHUSOMRÅDET 4 september kl 15.00 \n\n\n\n\nVi går en promenad i området med guiden Eva Larsson från Stadsmuseet (samma utmärkta guide som vi hade på utställningen på museet 26/2). \nStart: Parken Slakthusplan\, huvudinfarten Palmfeltsvägen. OBS ej inne i Palmfeltscenter. T-bana till Globen därefter ca 400 m längs Palmfeltsvägen mot sydväst. \nKostnad 100 kr insättes på plusgiro 558368-7 efter bekräftelse på anmälan (se nedan) Max 30 deltagare! Anmälan senast 20/8! \nAnmälningar görs till Gertrud Wahlund på e-post gmwahlund@gmail.com eller SMS till 072-371 2050. Sätt inte in pengar för ev avgifter förrän efter bekräftelse av anmälan. \nMedlemsavgiften för 2025 är 150 kr för huvudmedlem och 50 kr för familjemedlem. Inbetalning sker till plusgiro 558368-7. Glöm inte att ange ert eget namn!\nDen som önskar ta med en vän till någon av föreningens aktiviteter kan göra detta om vännen samtidigt blir medlem i föreningen och betalar medlemsavgift. \n\n\n\n\n\n\n\n\n\n 
URL:https://sjostadsnytt.se/event/2078-2-2-2-3/
CATEGORIES:Boende,Föreningar
ATTACH;FMTTYPE=image/jpeg:https://sjostadsnytt.se/wp-content/uploads/2025/04/Sofia-hembygdsforening.jpg
END:VEVENT
BEGIN:VEVENT
DTSTART;TZID=UTC:20250923T183000
DTEND;TZID=UTC:20250923T203000
DTSTAMP:20260423T225901
CREATED:20250923T092206Z
LAST-MODIFIED:20250923T092206Z
UID:2295-1758652200-1758659400@sjostadsnytt.se
SUMMARY:Ekermanska gården
DESCRIPTION:23/9  berättar Stella Fare om Ekermanska gården på Ekermans gränd 3.\n\n\nPlats: Ekermans gränd 3 \nTid: måndag 23 september kl.18.30 \nPris: 100 kr medlem\, 120 kr icke medlem\, ingen föranmälan \n\n\n\n\nArrangör: Kultur i Sjöstan
URL:https://sjostadsnytt.se/event/cirkuslegenden-brazil-jack-3-2-2-3-2/
LOCATION:GlashusEtt
CATEGORIES:Boende,Föreningar,Företag
ATTACH;FMTTYPE=image/jpeg:https://sjostadsnytt.se/wp-content/uploads/2023/08/Kultur-i-Sjostan.jpg
END:VEVENT
END:VCALENDAR