BEGIN:VCALENDAR
VERSION:2.0
PRODID:-//Sjöstadsnytt - ECPv6.15.20//NONSGML v1.0//EN
CALSCALE:GREGORIAN
METHOD:PUBLISH
X-ORIGINAL-URL:https://sjostadsnytt.se
X-WR-CALDESC:Händelser för Sjöstadsnytt
REFRESH-INTERVAL;VALUE=DURATION:PT1H
X-Robots-Tag:noindex
X-PUBLISHED-TTL:PT1H
BEGIN:VTIMEZONE
TZID:UTC
BEGIN:STANDARD
TZOFFSETFROM:+0000
TZOFFSETTO:+0000
TZNAME:UTC
DTSTART:20240101T000000
END:STANDARD
END:VTIMEZONE
BEGIN:VEVENT
DTSTART;TZID=UTC:20251013T183000
DTEND;TZID=UTC:20251013T203000
DTSTAMP:20260424T005849
CREATED:20250923T092024Z
LAST-MODIFIED:20250923T092733Z
UID:2293-1760380200-1760387400@sjostadsnytt.se
SUMMARY:Fredriksdal från 1700-talet till idag
DESCRIPTION:Maj Sandin berättar om Fredriksdal från 1700-talet till idag\n\n\nPlats: Hotell Park City\, Midskeppsgatan 6\, Hammarby Sjöstad \nTid: måndag 13 oktober kl.18.30 \nPris: 100 kr medlem\, 120 kr icke medlem\, ingen föranmälan \n\n\n\n\nArrangör: Kultur i Sjöstan
URL:https://sjostadsnytt.se/event/cirkuslegenden-brazil-jack-3-2-2-3/
LOCATION:GlashusEtt
CATEGORIES:Boende,Föreningar,Företag
ATTACH;FMTTYPE=image/jpeg:https://sjostadsnytt.se/wp-content/uploads/2023/08/Kultur-i-Sjostan.jpg
END:VEVENT
BEGIN:VEVENT
DTSTART;TZID=UTC:20251022T183000
DTEND;TZID=UTC:20251022T203000
DTSTAMP:20260424T005849
CREATED:20250923T092449Z
LAST-MODIFIED:20250923T092449Z
UID:2297-1761157800-1761165000@sjostadsnytt.se
SUMMARY:Europa på egna ben
DESCRIPTION:Lars-Erik Lundin föreläser om “Europa på egna ben”.\n\nPlats: Hotell Park City\, Midskeppsgatan 6\, Hammarby Sjöstad\n\nTid: Onsdag 22 oktober kl.18.30 \nPris: 100 kr medlem\, 120 kr icke medlem\, ingen föranmälan \n\n\n\n\nArrangör: Kultur i Sjöstan
URL:https://sjostadsnytt.se/event/cirkuslegenden-brazil-jack-3-2-2-3-3/
LOCATION:GlashusEtt
CATEGORIES:Boende,Föreningar,Företag
ATTACH;FMTTYPE=image/jpeg:https://sjostadsnytt.se/wp-content/uploads/2023/08/Kultur-i-Sjostan.jpg
END:VEVENT
BEGIN:VEVENT
DTSTART;TZID=UTC:20251025T100000
DTEND;TZID=UTC:20251025T180000
DTSTAMP:20260424T005849
CREATED:20251015T134726Z
LAST-MODIFIED:20251015T134726Z
UID:2320-1761386400-1761415200@sjostadsnytt.se
SUMMARY:Halloweenfest
DESCRIPTION:INFöR HALLOWEEN blir det en magisk familjedag på Luma torg den 25 oktober kl 11-18. Festen arrangeras av Sjöstadsföreningen som hälsar alla sjöstadsbor välkomna. \nHalloween har sitt ursprung i irländska och anglosaxiska All hallow’s eve\, som var en keltisk höstfest som markerade skördetiden då eldar tändes för att vägleda de döda och skrämma bort häxor. Pumporna har blivit en viktig del i firandet av Halloween eftersom de markerar den magiska övergången mellan sommar- och vinter-halvåret. Dessa grödor fick efterhand läskiga utformningar och på så sätt finns kopplingen till de skördehögtider och marknader vi länge haft i Sverige. \n  \nKarva din egen pumpa \nPå Luma torg får både barn och föräldrar lära sig att karva pumpor med hjälp av konstnären Jörgen Westin. Pumpor kommer att finnas till försäljning och verktyg finns att låna på plats. \n  \nAnsiktsmålning och annat skoj \nHalloween har blivit en uppskattad högtid i Sverige och det är inte så konstigt. För finns det något roligare än att få gå loss med sminkborsten och ösa på med blod. Många av oss har en inneboende fascination för det spöklika och kusliga. På Luma torg kan alla barn få läskiga ansiktsmålningar\, prova lyckan i en fiskdamm och göra Halloween-pyssel. \n  \nPonnyridning \nPå Halloweenfesten kan barn få en trygg ridtur för en mindre summa kl 11-14. Det är stabila shetlandsponnyer som gärna låter barnen rida en sväng och så klart finns det hjälmar för utlåning.   \n  \nPumpaparad \nAlla som gjort en rolig\, fin\, skrämmande eller ruskig pumpa kan ta med den till fontänen på Luma torg och vara med i pumpaparaden där bidragen tävlar om fina priser i kategorierna barn respektive vuxna. Vill man sedan ta med sin pumpa hem igen går det bra att hämta ut den igen före kl 18. Innan prisutdelningen är figuren Lurke på plats och berättar mysigt\, ruskiga historier. \nKom gärna utklädd – hela Luma torg fylls av spöklig stämning den 25 oktober!
URL:https://sjostadsnytt.se/event/halloweenfest/
LOCATION:Luma torg
CATEGORIES:Boende,Föreningar,Företag
ATTACH;FMTTYPE=image/jpeg:https://sjostadsnytt.se/wp-content/uploads/2025/10/Pumpakarving_web.jpg
ORGANIZER;CN="Sj%C3%B6stadsf%C3%B6reningen":MAILTO:info@sjostadsforeningen.se
END:VEVENT
END:VCALENDAR